BEGIN:VCALENDAR
VERSION:2.0
PRODID:-//THD Veranstaltungen//th-deg.de//DE
CALSCALE:GREGORIAN
BEGIN:VEVENT
DTSTART:20260625T090000
DTEND:20260625T150000
LOCATION:Glashaus
DTSTAMP:20260625T090000
SUMMARY:Drachenbootfest
DESCRIPTION:
UID:c36a285d031e6d4ac304dee40c5f9f83@th-deg.de
END:VEVENT
END:VCALENDAR